80.000000000000000
0.000000000000000
0.000000000000000
-80.000000000000000
-120000.0000000000
278000.0000000000
